BEGIN:VCALENDAR
VERSION:2.0
PRODID:-//ChamberMaster//Event Calendar 2.0//EN
METHOD:PUBLISH
X-PUBLISHED-TTL:P3D
REFRESH-INTERVAL:P3D
CALSCALE:GREGORIAN
BEGIN:VEVENT
DTSTART:20230910T183000Z
DTEND:20230910T200000Z
X-MICROSOFT-CDO-ALLDAYEVENT:FALSE
SUMMARY:Cinnamon Roll Making Class
DESCRIPTION:Join us at Harkness Edwards Vineyards for an afternoon of learning to make fresh melt in your mouth cinnamon rolls and wine! Top notch delicious ingredients to make the perfect masterpiece! Learn step by step skills for creating a staple sweet treat! Take your cinnamon rolls home to bake and enjoy! -Guided instruction from start to finish -One glass of wine with every ticket sold.
X-ALT-DESC;FMTTYPE=text/html:Join us at Harkness Edwards Vineyards for an afternoon of learning to make fresh melt in your mouth cinnamon rolls and wine! Top notch delicious ingredients to make the perfect masterpiece! Learn step by step skills for creating a staple sweet treat! Take your cinnamon rolls home to bake and enjoy! -Guided instruction from start to finish -One glass of wine with every ticket sold.
LOCATION:Harkness Edwards Vineyards 5199 Combs Ferry Rd Winchester\, KY 40391
UID:e.1926.22592
SEQUENCE:3
DTSTAMP:20260420T001349Z
URL:http://winchesterkychamber.chambermaster.com/events/details/cinnamon-roll-making-class-22592
END:VEVENT

END:VCALENDAR
